
BEGIN:VCALENDAR
VERSION:2.0
PRODID:-//eventon.com NONSGML v1.0//EN
CALSCALE:GREGORIAN
METHOD:PUBLISH
BEGIN:VEVENT
UID:69e5db9c8a8bb
DTSTAMP:20260420T075404Z
DTSTART:20240613T160000Z
DTEND:20240613T173000Z
LOCATION:
SUMMARY:Quantum Jumpstart: June
DESCRIPTION:In this open Zoom forum\,  NCS-certified trainers will answer q
 uestions live and walk us through how to better our practice of personal tr
 ansformation. We’ll also meditate together as a community. If you’re f
 inding it hard to get started\,  need new inspiration to keep up the work\,
   or if you want to[..]\nhttps://givetogivefoundation.org/events/6-quantum-
 jumpstart-june/
URL:https://givetogivefoundation.org/events/6-quantum-jumpstart-june/
END:VEVENT
END:VCALENDAR